View In:
ArcGIS JavaScript
ArcGIS Online Map Viewer
ArcGIS Earth
ArcMap
View Footprint In:
ArcGIS Online Map Viewer
Service Description: H-GAC regional aerial color infrared (CIR) imagery at 1 foot resolution following Hurricane Harvey. Flight dates: 8/30/2017 - 9/8/2017. Copyright Houston-Galveston Area Council 2017. Surdex Corporation was contracted by Houston-Galveston Area Council (H-GAC) to capture ~10,322 square miles of digital aerial imagery at 12-inch pixel resolution post Hurricane Harvey. The area of interest includes the following counties surrounding the Harris County (Houston Metropolitan Area): Fort Bend, Brazoria, Galveston, Chambers, Fort Bend, Galveston, Liberty, Montgomery, a portion of Grimes and a portion of Waller. Orthophotos at a map scale of 1"=200' with a 12-inch ground pixel resolution were produced for H-GAC. 4-Band orthophotography was collected using the Leica ADS100 sensor ~12,100' above ground level. RMSE of all points will be less than 2 feet. RGB color and CIR orthophoto tiles were produced using the H-GAC Lambert tile index. MrSID RGB color and CIR tiles of the 12-inch orthophotos were also produced at a compression ratio of 20:1. Disclaimer: This product is for informational purposes only and may not be suitable for legal, engineering, or surveying purposes. It does not represent an official survey and represents only the approximate relative location of features and boundaries. Mapping may not necessarily reflect on-the-ground conditions. This product and those involved in its production make no claims as to the accuracy or reliability of the data, and neither assumes, nor will accept liability for their use.
Name: Imagery/Aerials_Post_Harvey_2017_CIR
Description: H-GAC regional aerial color infrared (CIR) imagery at 1 foot resolution following Hurricane Harvey. Flight dates: 8/30/2017 - 9/8/2017. Copyright Houston-Galveston Area Council 2017. Surdex Corporation was contracted by Houston-Galveston Area Council (H-GAC) to capture ~10,322 square miles of digital aerial imagery at 12-inch pixel resolution post Hurricane Harvey. The area of interest includes the following counties surrounding the Harris County (Houston Metropolitan Area): Fort Bend, Brazoria, Galveston, Chambers, Fort Bend, Galveston, Liberty, Montgomery, a portion of Grimes and a portion of Waller. Orthophotos at a map scale of 1"=200' with a 12-inch ground pixel resolution were produced for H-GAC. 4-Band orthophotography was collected using the Leica ADS100 sensor ~12,100' above ground level. RMSE of all points will be less than 2 feet. RGB color and CIR orthophoto tiles were produced using the H-GAC Lambert tile index. MrSID RGB color and CIR tiles of the 12-inch orthophotos were also produced at a compression ratio of 20:1. Disclaimer: This product is for informational purposes only and may not be suitable for legal, engineering, or surveying purposes. It does not represent an official survey and represents only the approximate relative location of features and boundaries. Mapping may not necessarily reflect on-the-ground conditions. This product and those involved in its production make no claims as to the accuracy or reliability of the data, and neither assumes, nor will accept liability for their use.
Single Fused Map Cache: true
Tile Info:
- Height: 256
- Width: 256
- DPI: 96
-
Levels of Detail: 14
- Format: MIXED
- Compression Quality: 75.0
- LERC Error: NaN
- Origin: X: -2.0037508342787E7
Y: 2.0037508342787E7
- Spatial Reference: 102100
(3857)
Extent:
XMin: -1.07307019346E7
YMin: 3296067.2902432317
XMax: -1.0500707624211378E7
YMax: 3585145.674800001
Spatial Reference: 102100
(3857)
Initial Extent:
XMin: -1.07307019346E7
YMin: 3296067.2902432317
XMax: -1.0500707624211378E7
YMax: 3585145.674800001
Spatial Reference: 102100
(3857)
Full Extent:
XMin: -1.07307019346E7
YMin: 3296067.2902432317
XMax: -1.0500707624211378E7
YMax: 3585145.674800001
Spatial Reference: 102100
(3857)
Pixel Size X: 0.3048006096012194
Pixel Size Y: 0.3048006096012195
Band Count: 3
Pixel Type: U8
RasterFunction Infos: {"rasterFunctionInfos": [{
"name": "None",
"description": "A No-Op Function.",
"help": ""
}]}
Mensuration Capabilities: None
Has Histograms: true
Has Colormap: false
Has Multi Dimensions : false
Rendering Rule:
Min Scale: 5.91657527591555E8
Max Scale: 70.5310735
Copyright Text: Houston-Galveston Area Council
Service Data Type: esriImageServiceDataTypeRGB
Min Values: 0, 0, 0
Max Values: 250, 249, 253
Mean Values: 109.46468898480832, 103.23355483970164, 107.57307272584087
Standard Deviation Values: 46.780621605467, 32.3231863911062, 28.754950474440783
Object ID Field: OBJECTID
Fields:
-
OBJECTID
(
type: esriFieldTypeOID, alias: OBJECTID
)
-
Shape
(
type: esriFieldTypeGeometry, alias: Shape
)
-
Name
(
type: esriFieldTypeString, alias: Name, length: 200
)
-
MinPS
(
type: esriFieldTypeDouble, alias: MinPS
)
-
MaxPS
(
type: esriFieldTypeDouble, alias: MaxPS
)
-
LowPS
(
type: esriFieldTypeDouble, alias: LowPS
)
-
HighPS
(
type: esriFieldTypeDouble, alias: HighPS
)
-
Category
(
type: esriFieldTypeInteger, alias: Category
, Coded Values:
[0: Unknown]
, [1: Primary]
, [2: Overview]
, ...5 more...
)
-
Tag
(
type: esriFieldTypeString, alias: Tag, length: 100
)
-
GroupName
(
type: esriFieldTypeString, alias: GroupName, length: 100
)
-
ProductName
(
type: esriFieldTypeString, alias: ProductName, length: 100
)
-
CenterX
(
type: esriFieldTypeDouble, alias: CenterX
)
-
CenterY
(
type: esriFieldTypeDouble, alias: CenterY
)
-
ZOrder
(
type: esriFieldTypeInteger, alias: ZOrder
)
-
Shape_Length
(
type: esriFieldTypeDouble, alias: Shape_Length
)
-
Shape_Area
(
type: esriFieldTypeDouble, alias: Shape_Area
)
Default Mosaic Method: Northwest
Allowed Mosaic Methods: NorthWest,Center,LockRaster,ByAttribute,Nadir,Viewpoint,Seamline,None
SortField:
SortValue: null
Mosaic Operator: First
Default Compression Quality: 75
Default Resampling Method: Bilinear
Max Record Count: 1000
Max Image Height: 4100
Max Image Width: 15000
Max Download Image Count: 20
Max Mosaic Image Count: 20
Allow Raster Function: true
Allow Copy: null
Allow Analysis: null
Allow Compute TiePoints: false
Supports Statistics: true
Supports Advanced Queries: true
Use StandardizedQueries: true
Raster Type Infos:
Name: Raster Dataset
Description: Supports all ArcGIS Raster Datasets
Help:
Has Raster Attribute Table: false
Edit Fields Info: null
Ownership Based AccessControl For Rasters: null
Child Resources:
Info
Histograms
Key Properties
Legend
Raster Function Infos
Supported Operations:
Export Image
Query
Identify
Compute Histograms
Compute Statistics Histograms
Get Samples
Compute Class Statistics
Query Boundary
Compute Pixel Location
Compute Angles
Validate
Project