{ "currentVersion": 10.91, "serviceDescription": "
H-GAC regional aerial color infrared (CIR) imagery at 1 foot resolution following Hurricane Harvey. Flight dates: 8/30/2017 - 9/8/2017. Copyright Houston-Galveston Area Council 2017. Surdex Corporation was contracted by Houston-Galveston Area Council (H-GAC) to capture ~10,322 square miles of digital aerial imagery at 12-inch pixel resolution post Hurricane Harvey. The area of interest includes the following counties surrounding the Harris County (Houston Metropolitan Area): Fort Bend, Brazoria, Galveston, Chambers, Fort Bend, Galveston, Liberty, Montgomery, a portion of Grimes and a portion of Waller. Orthophotos at a map scale of 1\"=200' with a 12-inch ground pixel resolution were produced for H-GAC. 4-Band orthophotography was collected using the Leica ADS100 sensor ~12,100' above ground level. RMSE of all points will be less than 2 feet. RGB color and CIR orthophoto tiles were produced using the H-GAC Lambert tile index. MrSID RGB color and CIR tiles of the 12-inch orthophotos were also produced at a compression ratio of 20:1. Disclaimer: This product is for informational purposes only and may not be suitable for legal, engineering, or surveying purposes. It does not represent an official survey and represents only the approximate relative location of features and boundaries. Mapping may not necessarily reflect on-the-ground conditions. This product and those involved in its production make no claims as to the accuracy or reliability of the data, and neither assumes, nor will accept liability for their use.<\/span><\/p><\/div>",
"name": "Imagery/Aerials_Post_Harvey_2017_CIR",
"description": " H-GAC regional aerial color infrared (CIR) imagery at 1 foot resolution following Hurricane Harvey. Flight dates: 8/30/2017 - 9/8/2017. Copyright Houston-Galveston Area Council 2017. Surdex Corporation was contracted by Houston-Galveston Area Council (H-GAC) to capture ~10,322 square miles of digital aerial imagery at 12-inch pixel resolution post Hurricane Harvey. The area of interest includes the following counties surrounding the Harris County (Houston Metropolitan Area): Fort Bend, Brazoria, Galveston, Chambers, Fort Bend, Galveston, Liberty, Montgomery, a portion of Grimes and a portion of Waller. Orthophotos at a map scale of 1\"=200' with a 12-inch ground pixel resolution were produced for H-GAC. 4-Band orthophotography was collected using the Leica ADS100 sensor ~12,100' above ground level. RMSE of all points will be less than 2 feet. RGB color and CIR orthophoto tiles were produced using the H-GAC Lambert tile index. MrSID RGB color and CIR tiles of the 12-inch orthophotos were also produced at a compression ratio of 20:1. Disclaimer: This product is for informational purposes only and may not be suitable for legal, engineering, or surveying purposes. It does not represent an official survey and represents only the approximate relative location of features and boundaries. Mapping may not necessarily reflect on-the-ground conditions. This product and those involved in its production make no claims as to the accuracy or reliability of the data, and neither assumes, nor will accept liability for their use.<\/span><\/p><\/div>",
"extent": {
"xmin": -1.07307019346E7,
"ymin": 3296067.2902432317,
"xmax": -1.0500707624211378E7,
"ymax": 3585145.674800001,
"spatialReference": {
"wkid": 102100,
"latestWkid": 3857
}
},
"initialExtent": {
"xmin": -1.07307019346E7,
"ymin": 3296067.2902432317,
"xmax": -1.0500707624211378E7,
"ymax": 3585145.674800001,
"spatialReference": {
"wkid": 102100,
"latestWkid": 3857
}
},
"fullExtent": {
"xmin": -1.07307019346E7,
"ymin": 3296067.2902432317,
"xmax": -1.0500707624211378E7,
"ymax": 3585145.674800001,
"spatialReference": {
"wkid": 102100,
"latestWkid": 3857
}
},
"pixelSizeX": 0.3048006096012194,
"pixelSizeY": 0.3048006096012195,
"bandCount": 3,
"pixelType": "U8",
"minPixelSize": 0.018661383852976044,
"maxPixelSize": 156543.03392800014,
"copyrightText": "Houston-Galveston Area Council",
"serviceDataType": "esriImageServiceDataTypeRGB",
"minValues": [
0,
0,
0
],
"maxValues": [
250,
249,
253
],
"meanValues": [
109.46468898480832,
103.23355483970164,
107.57307272584087
],
"stdvValues": [
46.780621605467,
32.3231863911062,
28.754950474440783
],
"objectIdField": "OBJECTID",
"fields": [
{
"name": "OBJECTID",
"type": "esriFieldTypeOID",
"alias": "OBJECTID",
"domain": null
},
{
"name": "Shape",
"type": "esriFieldTypeGeometry",
"alias": "Shape",
"domain": null
},
{
"name": "Name",
"type": "esriFieldTypeString",
"alias": "Name",
"domain": null,
"length": 200
},
{
"name": "MinPS",
"type": "esriFieldTypeDouble",
"alias": "MinPS",
"domain": null
},
{
"name": "MaxPS",
"type": "esriFieldTypeDouble",
"alias": "MaxPS",
"domain": null
},
{
"name": "LowPS",
"type": "esriFieldTypeDouble",
"alias": "LowPS",
"domain": null
},
{
"name": "HighPS",
"type": "esriFieldTypeDouble",
"alias": "HighPS",
"domain": null
},
{
"name": "Category",
"type": "esriFieldTypeInteger",
"alias": "Category",
"domain": {
"type": "codedValue",
"name": "MosaicCatalogItemCategoryDomain",
"description": "Catalog item categories.",
"codedValues": [
{
"name": "Unknown",
"code": 0
},
{
"name": "Primary",
"code": 1
},
{
"name": "Overview",
"code": 2
},
{
"name": "Unprocessed Overview",
"code": 3
},
{
"name": "Partial Overview",
"code": 4
},
{
"name": "Uploaded",
"code": 253
},
{
"name": "Incomplete",
"code": 254
},
{
"name": "Custom",
"code": 255
}
],
"mergePolicy": "esriMPTDefaultValue",
"splitPolicy": "esriSPTDefaultValue"
}
},
{
"name": "Tag",
"type": "esriFieldTypeString",
"alias": "Tag",
"domain": null,
"length": 100
},
{
"name": "GroupName",
"type": "esriFieldTypeString",
"alias": "GroupName",
"domain": null,
"length": 100
},
{
"name": "ProductName",
"type": "esriFieldTypeString",
"alias": "ProductName",
"domain": null,
"length": 100
},
{
"name": "CenterX",
"type": "esriFieldTypeDouble",
"alias": "CenterX",
"domain": null
},
{
"name": "CenterY",
"type": "esriFieldTypeDouble",
"alias": "CenterY",
"domain": null
},
{
"name": "ZOrder",
"type": "esriFieldTypeInteger",
"alias": "ZOrder",
"domain": null
},
{
"name": "Shape_Length",
"type": "esriFieldTypeDouble",
"alias": "Shape_Length",
"domain": null
},
{
"name": "Shape_Area",
"type": "esriFieldTypeDouble",
"alias": "Shape_Area",
"domain": null
}
],
"capabilities": "Catalog,Image,Metadata",
"defaultMosaicMethod": "Northwest",
"allowedMosaicMethods": "NorthWest,Center,LockRaster,ByAttribute,Nadir,Viewpoint,Seamline,None",
"sortField": "",
"sortValue": null,
"sortAscending": true,
"mosaicOperator": "First",
"maxDownloadSizeLimit": 2048,
"defaultCompressionQuality": 75,
"defaultResamplingMethod": "Bilinear",
"maxImageHeight": 4100,
"maxImageWidth": 15000,
"maxRecordCount": 1000,
"maxDownloadImageCount": 20,
"maxMosaicImageCount": 20,
"singleFusedMapCache": true,
"tileInfo": {
"rows": 256,
"cols": 256,
"dpi": 96,
"format": "MIXED",
"compressionQuality": 75,
"origin": {
"x": -2.0037508342787E7,
"y": 2.0037508342787E7
},
"spatialReference": {
"wkid": 102100,
"latestWkid": 3857
},
"lods": [
{
"level": 0,
"resolution": 2445.98490512499,
"scale": 9244648.868618
},
{
"level": 1,
"resolution": 1222.992452562495,
"scale": 4622324.434309
},
{
"level": 2,
"resolution": 611.4962262813797,
"scale": 2311162.217155
},
{
"level": 3,
"resolution": 305.74811314055756,
"scale": 1155581.108577
},
{
"level": 4,
"resolution": 152.87405657041106,
"scale": 577790.554289
},
{
"level": 5,
"resolution": 76.43702828507324,
"scale": 288895.277144
},
{
"level": 6,
"resolution": 38.21851414253662,
"scale": 144447.638572
},
{
"level": 7,
"resolution": 19.10925707126831,
"scale": 72223.819286
},
{
"level": 8,
"resolution": 9.554628535634155,
"scale": 36111.909643
},
{
"level": 9,
"resolution": 4.77731426794937,
"scale": 18055.954822
},
{
"level": 10,
"resolution": 2.388657133974685,
"scale": 9027.977411
},
{
"level": 11,
"resolution": 1.1943285668550503,
"scale": 4513.988705
},
{
"level": 12,
"resolution": 0.5971642835598172,
"scale": 2256.994353
},
{
"level": 13,
"resolution": 0.29858214164761665,
"scale": 1128.497176
}
]
},
"cacheType": "Map",
"allowRasterFunction": true,
"rasterFunctionInfos": [
{
"name": "None",
"description": "A No-Op Function.",
"help": ""
}
],
"rasterTypeInfos": [
{
"name": "Raster Dataset",
"description": "Supports all ArcGIS Raster Datasets",
"help": ""
}
],
"mensurationCapabilities": "None",
"hasHistograms": true,
"hasColormap": false,
"hasRasterAttributeTable": false,
"minScale": 5.91657527591555E8,
"maxScale": 70.5310735,
"exportTilesAllowed": false,
"hasMultidimensions": false,
"supportsStatistics": true,
"supportsAdvancedQueries": true,
"editFieldsInfo": null,
"ownershipBasedAccessControlForRasters": null,
"allowComputeTiePoints": false,
"useStandardizedQueries": true,
"advancedQueryCapabilities": {
"useStandardizedQueries": true,
"supportsStatistics": true,
"supportsOrderBy": true,
"supportsDistinct": true,
"supportsPagination": true
},
"spatialReference": {
"wkid": 102100,
"latestWkid": 3857
}
}