View In:
ArcGIS JavaScript
ArcGIS Online Map Viewer
ArcGIS Earth
ArcMap
View Footprint In:
ArcGIS Online Map Viewer
Service Description: These data were created as part of the National Oceanic and Atmospheric Administration Office for Coastal Management's efforts to create an onlinemapping viewer depicting potential sea level rise and its associated impacts on the nation's coastal areas. The purpose of the mapping vieweris to provide coastal managers and scientists with a preliminary look at sea level rise (slr) and coastal flooding impacts. The viewer is ascreening-level tool that uses nationally consistent data sets and analyses. Data and maps provided can be used at several scales to help gaugetrends and prioritize actions for different scenarios. The Sea Level Rise and Coastal Flooding Impacts Viewer may be accessed at:https://www.coast.noaa.gov/slr. These data depict the potential inundation of coastal areas resulting from current Mean Higher High Water (MHHW) conditions. The process usedto produce the data can be described as a modified bathtub approach that attempts to account for both local/regional tidal variability aswell as hydrological connectivity. The process uses two source datasets to derive the final inundation rasters and polygons and accompanyinglow-lying polygons: the Digital Elevation Model (DEM) of the area and a tidal surface model that represents spatial tidal variability. Thetidal model is created using the NOAA National Geodetic Survey's VDATUM datum transformation software (http://vdatum.noaa.gov) in conjunctionwith spatial interpolation/extrapolation methods and represents the MHHW tidal datum in orthometric values (North American Vertical Datumof 1988).The model used to produce these data does not account for erosion, subsidence, or any future changes in an area's hydrodynamics. It is simplya method to derive data in order to visualize the potential scale, not exact location, of inundation from sea level rise.The process to derive the inundation rasters and polygons and low-lying area polygons is as follows:1. A tidal surface is generated using NOAA VDATUM tool and various spatial interpolation/extrapolation routines, dependent upon the area being mapped. The surface generated represents the spatial variability of offsets between MHHW, a tidal datum and NAVD88, an orthometric datum.2. Using the DEM and the tidal surface, raster calculations are made using ArcGIS Spatial Analyst Raster Calculation tool to generate multiple rasters, one 32-bit floating point raster representing depth of inundation and one 8-bit single value raster representing the extent of inundation.3. The hydrologic connectivity of the single value raster is evaluated using an 8-sided neighborhood rule in ArcGIS using the RegionGroup tool. The output raster from this process is then converted to a vector polygon feature class for further analysis. Using this 'base' feature class, a new feature class is created representing hydrologically connected areas. The 'base' feature class is also used to create a feature class representing unconnected 'low-lying' areas.Disclaimer: This product is for informational purposes only and may not be suitable for legal, engineering, or surveying purposes. It does not represent an official survey and represents only the approximate relative location of features and boundaries. Mapping may not necessarily reflect on-the-ground conditions. This product and those involved in its production make no claims as to the accuracy or reliability of the data, and neither assumes, nor will accept liability for their use.
Name: Sea_Level_Rise_Inundation/NOAA_OCM_SLR_Inundation_Depth_0ft
Description: These data were created as part of the National Oceanic and Atmospheric Administration Office for Coastal Management's efforts to create an onlinemapping viewer depicting potential sea level rise and its associated impacts on the nation's coastal areas. The purpose of the mapping vieweris to provide coastal managers and scientists with a preliminary look at sea level rise (slr) and coastal flooding impacts. The viewer is ascreening-level tool that uses nationally consistent data sets and analyses. Data and maps provided can be used at several scales to help gaugetrends and prioritize actions for different scenarios. The Sea Level Rise and Coastal Flooding Impacts Viewer may be accessed at:https://www.coast.noaa.gov/slr. These data depict the potential inundation of coastal areas resulting from current Mean Higher High Water (MHHW) conditions. The process usedto produce the data can be described as a modified bathtub approach that attempts to account for both local/regional tidal variability aswell as hydrological connectivity. The process uses two source datasets to derive the final inundation rasters and polygons and accompanyinglow-lying polygons: the Digital Elevation Model (DEM) of the area and a tidal surface model that represents spatial tidal variability. Thetidal model is created using the NOAA National Geodetic Survey's VDATUM datum transformation software (http://vdatum.noaa.gov) in conjunctionwith spatial interpolation/extrapolation methods and represents the MHHW tidal datum in orthometric values (North American Vertical Datumof 1988).The model used to produce these data does not account for erosion, subsidence, or any future changes in an area's hydrodynamics. It is simplya method to derive data in order to visualize the potential scale, not exact location, of inundation from sea level rise.The process to derive the inundation rasters and polygons and low-lying area polygons is as follows:1. A tidal surface is generated using NOAA VDATUM tool and various spatial interpolation/extrapolation routines, dependent upon the area being mapped. The surface generated represents the spatial variability of offsets between MHHW, a tidal datum and NAVD88, an orthometric datum.2. Using the DEM and the tidal surface, raster calculations are made using ArcGIS Spatial Analyst Raster Calculation tool to generate multiple rasters, one 32-bit floating point raster representing depth of inundation and one 8-bit single value raster representing the extent of inundation.3. The hydrologic connectivity of the single value raster is evaluated using an 8-sided neighborhood rule in ArcGIS using the RegionGroup tool. The output raster from this process is then converted to a vector polygon feature class for further analysis. Using this 'base' feature class, a new feature class is created representing hydrologically connected areas. The 'base' feature class is also used to create a feature class representing unconnected 'low-lying' areas.Disclaimer: This product is for informational purposes only and may not be suitable for legal, engineering, or surveying purposes. It does not represent an official survey and represents only the approximate relative location of features and boundaries. Mapping may not necessarily reflect on-the-ground conditions. This product and those involved in its production make no claims as to the accuracy or reliability of the data, and neither assumes, nor will accept liability for their use.
Single Fused Map Cache: false
Extent:
XMin: 2340395.0232797447
YMin: 1.2439739178209934E7
XMax: 3716544.244669427
YMax: 1.4038131938713035E7
Spatial Reference: 102740
(2278)
Initial Extent:
XMin: 2340395.0232797447
YMin: 1.2439739178209934E7
XMax: 3716544.244669427
YMax: 1.4038131938713035E7
Spatial Reference: 102740
(2278)
Full Extent:
XMin: 2340395.0232797447
YMin: 1.2439739178209934E7
XMax: 3716544.244669427
YMax: 1.4038131938713035E7
Spatial Reference: 102740
(2278)
Pixel Size X: 31.667645926677157
Pixel Size Y: 31.667645926677107
Band Count: 1
Pixel Type: F32
RasterFunction Infos: {"rasterFunctionInfos": [{
"name": "None",
"description": "",
"help": ""
}]}
Mensuration Capabilities: Basic
Has Histograms: true
Has Colormap: false
Has Multi Dimensions : false
Rendering Rule:
Min Scale: 0
Max Scale: 0
Copyright Text: Acknowledgment of the NOAA Office for Coastal Management as a data source would be appreciated in products developed from these data, and such acknowledgment as is standard for citation and legal practices for data source is expected.
Service Data Type: esriImageServiceDataTypeGeneric
Min Values: 7.450580596923828E-8
Max Values: 2.1163692474365234
Mean Values: 0.5677928195698254
Standard Deviation Values: 0.13771543613020962
Object ID Field:
Fields:
None
Default Mosaic Method: Center
Allowed Mosaic Methods:
SortField:
SortValue: null
Mosaic Operator: First
Default Compression Quality: 75
Default Resampling Method: Bilinear
Max Record Count: null
Max Image Height: 4100
Max Image Width: 15000
Max Download Image Count: null
Max Mosaic Image Count: null
Allow Raster Function: true
Allow Copy: null
Allow Analysis: null
Allow Compute TiePoints: false
Supports Statistics: false
Supports Advanced Queries: false
Use StandardizedQueries: true
Raster Type Infos:
Name: Raster Dataset
Description: Supports all ArcGIS Raster Datasets
Help:
Has Raster Attribute Table: false
Edit Fields Info: null
Ownership Based AccessControl For Rasters: null
Child Resources:
Info
Histograms
Key Properties
Legend
Raster Function Infos
Supported Operations:
Export Image
Identify
Measure
Compute Histograms
Compute Statistics Histograms
Get Samples
Compute Class Statistics
Query Boundary
Compute Pixel Location
Compute Angles
Validate
Project