View In:
ArcGIS JavaScript
ArcGIS Online Map Viewer
ArcGIS Earth
ArcMap
View Footprint In:
ArcGIS Online Map Viewer
Service Description: HARC collected data from TCEQ SWQM(1974-2013), NCA(2000-2001), Broach(1988-2000) and NOAA’s National Benthic Inventory(1996). And calculated the average of Streblospio's counts at each sampling location. Then interpolated the results using IDW. Disclaimer: This product is for informational purposes only and may not be suitable for legal, engineering, or surveying purposes. It does not represent an official survey and represents only the approximate relative location of features and boundaries. Mapping may not necessarily reflect on-the-ground conditions. This product and those involved in its production make no claims as to the accuracy or reliability of the data, and neither assumes, nor will accept liability for their use.
Name: Project_SOTB/SOTB_Streblospio_Count_IDW
Description: HARC collected data from TCEQ SWQM(1974-2013), NCA(2000-2001), Broach(1988-2000) and NOAA’s National Benthic Inventory(1996). And calculated the average of Streblospio's counts at each sampling location. Then interpolated the results using IDW. Disclaimer: This product is for informational purposes only and may not be suitable for legal, engineering, or surveying purposes. It does not represent an official survey and represents only the approximate relative location of features and boundaries. Mapping may not necessarily reflect on-the-ground conditions. This product and those involved in its production make no claims as to the accuracy or reliability of the data, and neither assumes, nor will accept liability for their use.
Single Fused Map Cache: false
Extent:
XMin: 3138886.155506879
YMin: 1.3596285200673059E7
XMax: 3392086.155506879
YMax: 1.3850685200673059E7
Spatial Reference: 102740
(2278)
Initial Extent:
XMin: 3138886.155506879
YMin: 1.3596285200673059E7
XMax: 3392086.155506879
YMax: 1.3850685200673059E7
Spatial Reference: 102740
(2278)
Full Extent:
XMin: 3138886.155506879
YMin: 1.3596285200673059E7
XMax: 3392086.155506879
YMax: 1.3850685200673059E7
Spatial Reference: 102740
(2278)
Pixel Size X: 300.0
Pixel Size Y: 300.0
Band Count: 1
Pixel Type: F32
RasterFunction Infos: {"rasterFunctionInfos": [{
"name": "None",
"description": "",
"help": ""
}]}
Mensuration Capabilities: Basic
Has Histograms: true
Has Colormap: false
Has Multi Dimensions : false
Rendering Rule:
Min Scale: 0
Max Scale: 0
Copyright Text: Broach, TCEQ, NCA, NOAA
Service Data Type: esriImageServiceDataTypeGeneric
Min Values: 0.4791659116744995
Max Values: 254.07894897460938
Mean Values: 16.286388024995798
Standard Deviation Values: 13.666590906494282
Object ID Field:
Fields:
None
Default Mosaic Method: Center
Allowed Mosaic Methods:
SortField:
SortValue: null
Mosaic Operator: First
Default Compression Quality: 75
Default Resampling Method: Bilinear
Max Record Count: null
Max Image Height: 4100
Max Image Width: 15000
Max Download Image Count: null
Max Mosaic Image Count: null
Allow Raster Function: true
Allow Copy: null
Allow Analysis: null
Allow Compute TiePoints: false
Supports Statistics: false
Supports Advanced Queries: false
Use StandardizedQueries: true
Raster Type Infos:
Name: Raster Dataset
Description: Supports all ArcGIS Raster Datasets
Help:
Has Raster Attribute Table: false
Edit Fields Info: null
Ownership Based AccessControl For Rasters: null
Child Resources:
Info
Histograms
Key Properties
Legend
Raster Function Infos
Supported Operations:
Export Image
Identify
Measure
Compute Histograms
Compute Statistics Histograms
Get Samples
Compute Class Statistics
Query Boundary
Compute Pixel Location
Compute Angles
Validate
Project