View In:
ArcGIS JavaScript
ArcGIS Online Map Viewer
ArcGIS Earth
ArcMap
View Footprint In:
ArcGIS Online Map Viewer
Service Description: Products: This HARC Harris County project called for the derivative products of lidar data to be created based on data that was collected at an aggregate nominal pulse pacing (ANPS) of 0.35 meters (8ppsm), in 2024, and 0.5 meters (4ppsm), in 2018. Project specifications are based on the U.S. Geological Survey National Geospatial Program Base Lidar Specification. The data was developed based on a horizontal projection/datum of NAD83 (2011), UTM zones 15N meters and vertical datum of NAVD88 (GEOID18), meters. Delivered data includes 1000 by 1000meter LAZ tiles, vegetation height and density rasters, and the vegetation change rasters as tifs and ECW's. Vegetation height outliers are also delivered in ESRI point shape files.
Name: Project_FUT/ForUSTree_LiDAR_2018_High_Veg_Density
Description: Products: This HARC Harris County project called for the derivative products of lidar data to be created based on data that was collected at an aggregate nominal pulse pacing (ANPS) of 0.35 meters (8ppsm), in 2024, and 0.5 meters (4ppsm), in 2018. Project specifications are based on the U.S. Geological Survey National Geospatial Program Base Lidar Specification. The data was developed based on a horizontal projection/datum of NAD83 (2011), UTM zones 15N meters and vertical datum of NAVD88 (GEOID18), meters. Delivered data includes 1000 by 1000meter LAZ tiles, vegetation height and density rasters, and the vegetation change rasters as tifs and ECW's. Vegetation height outliers are also delivered in ESRI point shape files.
Single Fused Map Cache: false
Extent:
XMin: 237912
YMin: 3266139.9999999995
XMax: 315026
YMax: 3334953.9999999995
Spatial Reference: 102384
(6344)
Initial Extent:
XMin: 237912
YMin: 3266139.9999999995
XMax: 315026
YMax: 3334953.9999999995
Spatial Reference: 102384
(6344)
Full Extent:
XMin: 237912
YMin: 3266139.9999999995
XMax: 315026
YMax: 3334953.9999999995
Spatial Reference: 102384
(6344)
Pixel Size X: 2.0
Pixel Size Y: 2.0
Band Count: 1
Pixel Type: F32
RasterFunction Infos: {"rasterFunctionInfos": [{
"name": "None",
"description": "",
"help": ""
}]}
Mensuration Capabilities: Basic
Has Histograms: true
Has Colormap: false
Has Multi Dimensions : false
Rendering Rule:
Min Scale: 0
Max Scale: 0
Copyright Text: Houston Advanced Research Center (HARC)
Service Data Type: esriImageServiceDataTypeGeneric
Min Values: 0.0020366599783301353
Max Values: 1
Mean Values: 0.5332655509818233
Standard Deviation Values: 0.2347303924004296
Object ID Field:
Fields:
None
Default Mosaic Method: Center
Allowed Mosaic Methods:
SortField:
SortValue: null
Mosaic Operator: First
Default Compression Quality: 75
Default Resampling Method: Bilinear
Max Record Count: null
Max Image Height: 4100
Max Image Width: 15000
Max Download Image Count: null
Max Mosaic Image Count: null
Allow Raster Function: true
Allow Copy: true
Allow Analysis: true
Allow Compute TiePoints: false
Supports Statistics: false
Supports Advanced Queries: false
Use StandardizedQueries: true
Raster Type Infos:
Name: Raster Dataset
Description: Supports all ArcGIS Raster Datasets
Help:
Has Raster Attribute Table: false
Edit Fields Info: null
Ownership Based AccessControl For Rasters: null
Child Resources:
Info
Histograms
Statistics
Key Properties
Legend
Raster Function Infos
Supported Operations:
Export Image
Identify
Measure
Compute Histograms
Compute Statistics Histograms
Get Samples
Compute Class Statistics
Query Boundary
Compute Pixel Location
Compute Angles
Validate
Project