{
 "currentVersion": 10.91,
 "serviceDescription": "For app Texas Gulf Coast Wetlands. Disclaimer: This product is for informational purposes only and may not be suitable for legal, engineering, or surveying purposes. It does not represent an official survey and represents only the approximate relative location of features and boundaries. Mapping may not necessarily reflect on-the-ground conditions. This product and those involved in its production make no claims as to the accuracy or reliability of the data, and neither assumes, nor will accept liability for their use.",
 "name": "Project_TXGCWL/TXGCWL_highislanddemex",
 "description": "For app Texas Gulf Coast Wetlands. Disclaimer: This product is for informational purposes only and may not be suitable for legal, engineering, or surveying purposes. It does not represent an official survey and represents only the approximate relative location of features and boundaries. Mapping may not necessarily reflect on-the-ground conditions. This product and those involved in its production make no claims as to the accuracy or reliability of the data, and neither assumes, nor will accept liability for their use.",
 "extent": {
  "xmin": -1.0519712494684873E7,
  "ymin": 3439416.3753555412,
  "xmax": -1.049184139254552E7,
  "ymax": 3471478.726188185,
  "spatialReference": {
   "wkid": 102100,
   "latestWkid": 3857
  }
 },
 "initialExtent": {
  "xmin": -1.0519712494684873E7,
  "ymin": 3439416.3753555412,
  "xmax": -1.049184139254552E7,
  "ymax": 3471478.726188185,
  "spatialReference": {
   "wkid": 102100,
   "latestWkid": 3857
  }
 },
 "fullExtent": {
  "xmin": -1.0519712494684873E7,
  "ymin": 3439416.3753555412,
  "xmax": -1.049184139254552E7,
  "ymax": 3471478.726188185,
  "spatialReference": {
   "wkid": 102100,
   "latestWkid": 3857
  }
 },
 "pixelSizeX": 3.435786752878896,
 "pixelSizeY": 3.435786752878896,
 "bandCount": 1,
 "pixelType": "F64",
 "minPixelSize": 1.1943285668550505,
 "maxPixelSize": 152.87405657041106,
 "copyrightText": "HARC",
 "serviceDataType": "esriImageServiceDataTypeGeneric",
 "minValues": [
  -66.2250304222107
 ],
 "maxValues": [
  147.46792793273926
 ],
 "meanValues": [
  16.346012945543706
 ],
 "stdvValues": [
  23.7495187051845
 ],
 "objectIdField": "",
 "fields": [],
 "capabilities": "Image,Metadata,Mensuration",
 "defaultMosaicMethod": "Center",
 "allowedMosaicMethods": "",
 "sortField": "",
 "sortValue": null,
 "sortAscending": true,
 "mosaicOperator": "First",
 "defaultCompressionQuality": 75,
 "defaultResamplingMethod": "Bilinear",
 "maxImageHeight": 4100,
 "maxImageWidth": 15000,
 "singleFusedMapCache": true,
 "tileInfo": {
  "rows": 256,
  "cols": 256,
  "dpi": 96,
  "format": "LERC",
  "compressionQuality": 0,
  "lercError": 0.1,
  "origin": {
   "x": -2.0037508342787E7,
   "y": 2.0037508342787E7
  },
  "spatialReference": {
   "wkid": 102100,
   "latestWkid": 3857
  },
  "lods": [
   {
    "level": 0,
    "resolution": 156543.03392800014,
    "scale": 5.91657527591555E8
   },
   {
    "level": 1,
    "resolution": 78271.51696399994,
    "scale": 2.95828763795777E8
   },
   {
    "level": 2,
    "resolution": 39135.75848200009,
    "scale": 1.47914381897889E8
   },
   {
    "level": 3,
    "resolution": 19567.87924099992,
    "scale": 7.3957190948944E7
   },
   {
    "level": 4,
    "resolution": 9783.93962049996,
    "scale": 3.6978595474472E7
   },
   {
    "level": 5,
    "resolution": 4891.96981024998,
    "scale": 1.8489297737236E7
   },
   {
    "level": 6,
    "resolution": 2445.98490512499,
    "scale": 9244648.868618
   },
   {
    "level": 7,
    "resolution": 1222.992452562495,
    "scale": 4622324.434309
   },
   {
    "level": 8,
    "resolution": 611.4962262813797,
    "scale": 2311162.217155
   },
   {
    "level": 9,
    "resolution": 305.74811314055756,
    "scale": 1155581.108577
   },
   {
    "level": 10,
    "resolution": 152.87405657041106,
    "scale": 577790.554289
   },
   {
    "level": 11,
    "resolution": 76.43702828507324,
    "scale": 288895.277144
   },
   {
    "level": 12,
    "resolution": 38.21851414253662,
    "scale": 144447.638572
   },
   {
    "level": 13,
    "resolution": 19.10925707126831,
    "scale": 72223.819286
   },
   {
    "level": 14,
    "resolution": 9.554628535634155,
    "scale": 36111.909643
   },
   {
    "level": 15,
    "resolution": 4.77731426794937,
    "scale": 18055.954822
   },
   {
    "level": 16,
    "resolution": 2.388657133974685,
    "scale": 9027.977411
   },
   {
    "level": 17,
    "resolution": 1.1943285668550503,
    "scale": 4513.988705
   },
   {
    "level": 18,
    "resolution": 0.5971642835598172,
    "scale": 2256.994353
   },
   {
    "level": 19,
    "resolution": 0.29858214164761665,
    "scale": 1128.497176
   },
   {
    "level": 20,
    "resolution": 0.14929107082380833,
    "scale": 564.248588
   },
   {
    "level": 21,
    "resolution": 0.07464553541190416,
    "scale": 282.124294
   },
   {
    "level": 22,
    "resolution": 0.03732276770595208,
    "scale": 141.062147
   },
   {
    "level": 23,
    "resolution": 0.01866138385297604,
    "scale": 70.5310735
   }
  ]
 },
 "cacheType": "Elevation",
 "allowRasterFunction": true,
 "rasterFunctionInfos": [
  {
   "name": "None",
   "description": "",
   "help": ""
  }
 ],
 "rasterTypeInfos": [
  {
   "name": "Raster Dataset",
   "description": "Supports all ArcGIS Raster Datasets",
   "help": ""
  }
 ],
 "mensurationCapabilities": "Basic",
 "hasHistograms": true,
 "hasColormap": false,
 "hasRasterAttributeTable": false,
 "minScale": 577790.554289,
 "maxScale": 4513.988705,
 "minLOD": 10,
 "maxLOD": 17,
 "exportTilesAllowed": false,
 "hasMultidimensions": false,
 "supportsStatistics": false,
 "supportsAdvancedQueries": false,
 "editFieldsInfo": null,
 "ownershipBasedAccessControlForRasters": null,
 "allowComputeTiePoints": false,
 "useStandardizedQueries": true,
 "advancedQueryCapabilities": {
  "useStandardizedQueries": true,
  "supportsStatistics": false,
  "supportsOrderBy": false,
  "supportsDistinct": false,
  "supportsPagination": false
 },
 "spatialReference": {
  "wkid": 102100,
  "latestWkid": 3857
 }
}
