{ "currentVersion": 10.91, "serviceDescription": "
HARC collected data from TCEQ SWQM(1985-2017), NCA(2000-2001), Broach(1988-2000) and NOAA<\/SPAN><\/SPAN>\u2019<\/SPAN><\/SPAN>s National Benthic Inventory(1996). And calculated the average of Oligochaeta's counts at each sampling location. Then interpolated the results using IDW.<\/SPAN> <\/SPAN>Disclaimer: This product is for informational purposes only and may not be suitable for legal, engineering, or surveying purposes. It does not represent an official survey and represents only the approximate relative location of features and boundaries. Mapping may not necessarily reflect on-the-ground conditions. This product and those involved in its production make no claims as to the accuracy or reliability of the data, and neither assumes, nor will accept liability for their use.<\/SPAN><\/P><\/DIV>",
"name": "Project_SOTB/SOTB_Oligochaeta_Count_IDW",
"description": " HARC collected data from TCEQ SWQM(1985-2017), NCA(2000-2001), Broach(1988-2000) and NOAA<\/SPAN><\/SPAN>\u2019<\/SPAN><\/SPAN>s National Benthic Inventory(1996). And calculated the average of Oligochaeta's counts at each sampling location. Then interpolated the results using IDW.<\/SPAN> <\/SPAN>Disclaimer: This product is for informational purposes only and may not be suitable for legal, engineering, or surveying purposes. It does not represent an official survey and represents only the approximate relative location of features and boundaries. Mapping may not necessarily reflect on-the-ground conditions. This product and those involved in its production make no claims as to the accuracy or reliability of the data, and neither assumes, nor will accept liability for their use.<\/SPAN><\/P><\/DIV>",
"extent": {
"xmin": 3103604.0046146363,
"ymin": 1.3596285200673059E7,
"xmax": 3391904.0046146363,
"ymax": 1.3922985200673059E7,
"spatialReference": {
"wkid": 102740,
"latestWkid": 2278
}
},
"initialExtent": {
"xmin": 3103604.0046146363,
"ymin": 1.3596285200673059E7,
"xmax": 3391904.0046146363,
"ymax": 1.3922985200673059E7,
"spatialReference": {
"wkid": 102740,
"latestWkid": 2278
}
},
"fullExtent": {
"xmin": 3103604.0046146363,
"ymin": 1.3596285200673059E7,
"xmax": 3391904.0046146363,
"ymax": 1.3922985200673059E7,
"spatialReference": {
"wkid": 102740,
"latestWkid": 2278
}
},
"pixelSizeX": 300,
"pixelSizeY": 300,
"bandCount": 1,
"pixelType": "F32",
"minPixelSize": 0,
"maxPixelSize": 0,
"copyrightText": "Broach, TCEQ, NCA, NOAA",
"serviceDataType": "esriImageServiceDataTypeGeneric",
"minValues": [
0.04164053872227669
],
"maxValues": [
1072.715576171875
],
"meanValues": [
8.230756960563818
],
"stdvValues": [
27.03538926890039
],
"objectIdField": "",
"fields": [],
"capabilities": "Image,Metadata,Mensuration",
"defaultMosaicMethod": "Center",
"allowedMosaicMethods": "",
"sortField": "",
"sortValue": null,
"sortAscending": true,
"mosaicOperator": "First",
"defaultCompressionQuality": 75,
"defaultResamplingMethod": "Bilinear",
"maxImageHeight": 4100,
"maxImageWidth": 15000,
"allowRasterFunction": true,
"rasterFunctionInfos": [
{
"name": "None",
"description": "",
"help": ""
}
],
"rasterTypeInfos": [
{
"name": "Raster Dataset",
"description": "Supports all ArcGIS Raster Datasets",
"help": ""
}
],
"mensurationCapabilities": "Basic",
"hasHistograms": true,
"hasColormap": false,
"hasRasterAttributeTable": false,
"minScale": 0,
"maxScale": 0,
"exportTilesAllowed": false,
"hasMultidimensions": false,
"supportsStatistics": false,
"supportsAdvancedQueries": false,
"editFieldsInfo": null,
"ownershipBasedAccessControlForRasters": null,
"allowComputeTiePoints": false,
"useStandardizedQueries": true,
"advancedQueryCapabilities": {
"useStandardizedQueries": true,
"supportsStatistics": false,
"supportsOrderBy": false,
"supportsDistinct": false,
"supportsPagination": false
},
"spatialReference": {
"wkid": 102740,
"latestWkid": 2278
}
}