{
 "currentVersion": 10.91,
 "serviceDescription": "Anne Stoner's climate data. It's the indicator values of the RCP85 scenario within the RESIN study area. Days with Minimum Daily Temperature Above 80F (Days). Disclaimer: This product is for informational purposes only and may not be suitable for legal, engineering, or surveying purposes. It does not represent an official survey and represents only the approximate relative location of features and boundaries. Mapping may not necessarily reflect on-the-ground conditions. This product and those involved in its production make no claims as to the accuracy or reliability of the data, and neither assumes, nor will accept liability for their use. HARC Internal use only. For external use, please contact the HARC GIS group.",
 "name": "Project_RESIN/RESIN_TminAbove80",
 "description": "Anne Stoner's climate data. It's the indicator values of the RCP85 scenario within the RESIN study area. Days with Minimum Daily Temperature Above 80F (Days). Disclaimer: This product is for informational purposes only and may not be suitable for legal, engineering, or surveying purposes. It does not represent an official survey and represents only the approximate relative location of features and boundaries. Mapping may not necessarily reflect on-the-ground conditions. This product and those involved in its production make no claims as to the accuracy or reliability of the data, and neither assumes, nor will accept liability for their use. HARC Internal use only. For external use, please contact the HARC GIS group.",
 "extent": {
  "xmin": -96.25,
  "ymin": 28.8125,
  "xmax": -93.8125,
  "ymax": 30.6875,
  "spatialReference": {
   "wkid": 4326,
   "latestWkid": 4326
  }
 },
 "initialExtent": {
  "xmin": -96.25,
  "ymin": 28.8125,
  "xmax": -93.8125,
  "ymax": 30.6875,
  "spatialReference": {
   "wkid": 4326,
   "latestWkid": 4326
  }
 },
 "fullExtent": {
  "xmin": -96.25,
  "ymin": 28.8125,
  "xmax": -93.8125,
  "ymax": 30.6875,
  "spatialReference": {
   "wkid": 4326,
   "latestWkid": 4326
  }
 },
 "timeInfo": {
  "startTimeField": "time",
  "endTimeField": "time",
  "timeExtent": [
   946684800000,
   4102444800000
  ],
  "timeReference": null,
  "defaultTimeInterval": 20,
  "defaultTimeIntervalUnits": "esriTimeUnitsYears"
 },
 "pixelSizeX": 0.0625,
 "pixelSizeY": 0.0625,
 "bandCount": 1,
 "pixelType": "F32",
 "minPixelSize": 0,
 "maxPixelSize": 0,
 "copyrightText": "Anne Stoner, Houston Advanced Research Center",
 "serviceDataType": "esriImageServiceDataTypeScientific",
 "minValues": [
  0.07049005478620529
 ],
 "maxValues": [
  126.78950500488281
 ],
 "meanValues": [
  27.604679850900368
 ],
 "stdvValues": [
  29.908921371456774
 ],
 "objectIdField": "OBJECTID",
 "fields": [
  {
   "name": "OBJECTID",
   "type": "esriFieldTypeOID",
   "alias": "OBJECTID",
   "domain": null
  },
  {
   "name": "Shape",
   "type": "esriFieldTypeGeometry",
   "alias": "Shape",
   "domain": null
  },
  {
   "name": "Name",
   "type": "esriFieldTypeString",
   "alias": "Name",
   "domain": null,
   "length": 200
  },
  {
   "name": "MinPS",
   "type": "esriFieldTypeDouble",
   "alias": "MinPS",
   "domain": null
  },
  {
   "name": "MaxPS",
   "type": "esriFieldTypeDouble",
   "alias": "MaxPS",
   "domain": null
  },
  {
   "name": "LowPS",
   "type": "esriFieldTypeDouble",
   "alias": "LowPS",
   "domain": null
  },
  {
   "name": "HighPS",
   "type": "esriFieldTypeDouble",
   "alias": "HighPS",
   "domain": null
  },
  {
   "name": "Category",
   "type": "esriFieldTypeInteger",
   "alias": "Category",
   "domain": {
    "type": "codedValue",
    "name": "MosaicCatalogItemCategoryDomain",
    "description": "Catalog item categories.",
    "codedValues": [
     {
      "name": "Unknown",
      "code": 0
     },
     {
      "name": "Primary",
      "code": 1
     },
     {
      "name": "Overview",
      "code": 2
     },
     {
      "name": "Unprocessed Overview",
      "code": 3
     },
     {
      "name": "Partial Overview",
      "code": 4
     },
     {
      "name": "Inactive",
      "code": 5
     },
     {
      "name": "Uploaded",
      "code": 253
     },
     {
      "name": "Incomplete",
      "code": 254
     },
     {
      "name": "Custom",
      "code": 255
     }
    ],
    "mergePolicy": "esriMPTDefaultValue",
    "splitPolicy": "esriSPTDefaultValue"
   }
  },
  {
   "name": "Tag",
   "type": "esriFieldTypeString",
   "alias": "Tag",
   "domain": null,
   "length": 100
  },
  {
   "name": "GroupName",
   "type": "esriFieldTypeString",
   "alias": "GroupName",
   "domain": null,
   "length": 100
  },
  {
   "name": "ProductName",
   "type": "esriFieldTypeString",
   "alias": "ProductName",
   "domain": null,
   "length": 100
  },
  {
   "name": "CenterX",
   "type": "esriFieldTypeDouble",
   "alias": "CenterX",
   "domain": null
  },
  {
   "name": "CenterY",
   "type": "esriFieldTypeDouble",
   "alias": "CenterY",
   "domain": null
  },
  {
   "name": "ZOrder",
   "type": "esriFieldTypeInteger",
   "alias": "ZOrder",
   "domain": null
  },
  {
   "name": "Shape_Length",
   "type": "esriFieldTypeDouble",
   "alias": "Shape_Length",
   "domain": null
  },
  {
   "name": "Shape_Area",
   "type": "esriFieldTypeDouble",
   "alias": "Shape_Area",
   "domain": null
  },
  {
   "name": "Variable",
   "type": "esriFieldTypeString",
   "alias": "Variable",
   "domain": null,
   "length": 50
  },
  {
   "name": "Dimensions",
   "type": "esriFieldTypeString",
   "alias": "Dimensions",
   "domain": null,
   "length": 50
  },
  {
   "name": "StdTime",
   "type": "esriFieldTypeDate",
   "alias": "Standard Time",
   "domain": null,
   "length": 8
  },
  {
   "name": "time",
   "type": "esriFieldTypeDouble",
   "alias": "time",
   "domain": null
  }
 ],
 "capabilities": "Image,Metadata,Catalog",
 "defaultMosaicMethod": "ByAttribute",
 "allowedMosaicMethods": "ByAttribute,NorthWest,Center,LockRaster,Nadir,Viewpoint,Seamline,None",
 "sortField": "StdTime",
 "sortValue": "0",
 "sortAscending": false,
 "mosaicOperator": "First",
 "maxDownloadSizeLimit": 2048,
 "defaultCompressionQuality": 75,
 "defaultResamplingMethod": "Bilinear",
 "maxImageHeight": 4100,
 "maxImageWidth": 15000,
 "maxRecordCount": 1000,
 "maxDownloadImageCount": 20,
 "maxMosaicImageCount": 20,
 "allowRasterFunction": true,
 "rasterFunctionInfos": [
  {
   "name": "None",
   "description": "A No-Op Function.",
   "help": ""
  },
  {
   "name": "tminabove80",
   "description": "A raster function template.",
   "help": ""
  }
 ],
 "rasterTypeInfos": [
  {
   "name": "Raster Dataset",
   "description": "Supports all ArcGIS Raster Datasets",
   "help": ""
  }
 ],
 "mensurationCapabilities": "None",
 "hasHistograms": true,
 "hasColormap": false,
 "hasRasterAttributeTable": false,
 "minScale": 0,
 "maxScale": 0,
 "exportTilesAllowed": false,
 "hasMultidimensions": true,
 "supportsStatistics": true,
 "supportsAdvancedQueries": true,
 "editFieldsInfo": null,
 "ownershipBasedAccessControlForRasters": null,
 "allowComputeTiePoints": false,
 "useStandardizedQueries": true,
 "advancedQueryCapabilities": {
  "useStandardizedQueries": true,
  "supportsStatistics": true,
  "supportsOrderBy": true,
  "supportsDistinct": true,
  "supportsPagination": true
 },
 "spatialReference": {
  "wkid": 4326,
  "latestWkid": 4326
 }
}
