<?xml version="1.0" encoding="UTF-8" standalone="no"?>
<metadata xml:lang="en">
<Esri>
<CreaDate>20210326</CreaDate>
<CreaTime>11033500</CreaTime>
<ArcGISFormat>1.0</ArcGISFormat>
<ArcGISstyle>FGDC CSDGM Metadata</ArcGISstyle>
<SyncOnce>FALSE</SyncOnce>
<DataProperties>
<itemProps>
<itemName Sync="TRUE">RESIN_TmaxAbove100</itemName>
<nativeExtBox>
<westBL Sync="TRUE">-96.250000</westBL>
<eastBL Sync="TRUE">-93.812500</eastBL>
<southBL Sync="TRUE">28.812500</southBL>
<northBL Sync="TRUE">30.687500</northBL>
<exTypeCode Sync="TRUE">1</exTypeCode>
</nativeExtBox>
</itemProps>
<coordRef>
<type Sync="TRUE">Geographic</type>
<geogcsn Sync="TRUE">GCS_WGS_1984</geogcsn>
<csUnits Sync="TRUE">Angular Unit: Degree (0.017453)</csUnits>
<peXml Sync="TRUE">&lt;GeographicCoordinateSystem xsi:type='typens:GeographicCoordinateSystem' xmlns:xsi='http://www.w3.org/2001/XMLSchema-instance' xmlns:xs='http://www.w3.org/2001/XMLSchema' xmlns:typens='http://www.esri.com/schemas/ArcGIS/10.7'&gt;&lt;WKT&gt;GEOGCS[&amp;quot;GCS_WGS_1984&amp;quot;,DATUM[&amp;quot;D_WGS_1984&amp;quot;,SPHEROID[&amp;quot;WGS_1984&amp;quot;,6378137.0,298.257223563]],PRIMEM[&amp;quot;Greenwich&amp;quot;,0.0],UNIT[&amp;quot;Degree&amp;quot;,0.0174532925199433],AUTHORITY[&amp;quot;EPSG&amp;quot;,4326]]&lt;/WKT&gt;&lt;XOrigin&gt;-400&lt;/XOrigin&gt;&lt;YOrigin&gt;-400&lt;/YOrigin&gt;&lt;XYScale&gt;11258999068426.238&lt;/XYScale&gt;&lt;ZOrigin&gt;-100000&lt;/ZOrigin&gt;&lt;ZScale&gt;10000&lt;/ZScale&gt;&lt;MOrigin&gt;-100000&lt;/MOrigin&gt;&lt;MScale&gt;10000&lt;/MScale&gt;&lt;XYTolerance&gt;8.983152841195215e-09&lt;/XYTolerance&gt;&lt;ZTolerance&gt;0.001&lt;/ZTolerance&gt;&lt;MTolerance&gt;0.001&lt;/MTolerance&gt;&lt;HighPrecision&gt;true&lt;/HighPrecision&gt;&lt;LeftLongitude&gt;-180&lt;/LeftLongitude&gt;&lt;WKID&gt;4326&lt;/WKID&gt;&lt;LatestWKID&gt;4326&lt;/LatestWKID&gt;&lt;/GeographicCoordinateSystem&gt;</peXml>
</coordRef>
<RasterProperties>
<General>
<PixelDepth Sync="TRUE">32</PixelDepth>
<HasColormap Sync="TRUE">FALSE</HasColormap>
<CompressionType Sync="TRUE">None</CompressionType>
<NumBands Sync="TRUE">1</NumBands>
<Format Sync="TRUE">AMD</Format>
<HasPyramids Sync="TRUE">TRUE</HasPyramids>
<SourceType Sync="TRUE">continuous</SourceType>
<PixelType Sync="TRUE">floating point</PixelType>
<NoDataValue Sync="TRUE">
</NoDataValue>
</General>
<Properties>
<MaxImageHeight Sync="TRUE">4100</MaxImageHeight>
<MaxImageWidth Sync="TRUE">15000</MaxImageWidth>
<MaxRecordCount Sync="TRUE">1000</MaxRecordCount>
<MaxDownloadImageCount Sync="TRUE">20</MaxDownloadImageCount>
<MaxDownloadSizeLimit Sync="TRUE">2048</MaxDownloadSizeLimit>
<MaxMosaicImageCount Sync="TRUE">20</MaxMosaicImageCount>
<DefaultCompressionQuality Sync="TRUE">75</DefaultCompressionQuality>
<DefaultCompressionTolerance Sync="TRUE">0.01</DefaultCompressionTolerance>
<BlendWidth Sync="TRUE">10</BlendWidth>
<ViewpointSpacingX Sync="TRUE">600</ViewpointSpacingX>
<ViewpointSpacingY Sync="TRUE">300</ViewpointSpacingY>
<AllowedItemMetadata Sync="TRUE">Basic</AllowedItemMetadata>
<DefaultResamplingMethod Sync="TRUE">1</DefaultResamplingMethod>
<AllowedMosaicMethods Sync="TRUE">ByAttribute,NorthWest,Center,LockRaster,Nadir,Viewpoint,Seamline,None</AllowedMosaicMethods>
<AllowedCompressions Sync="TRUE">None,JPEG,LZ77,LERC</AllowedCompressions>
<AllowedMensurationCapabilities Sync="TRUE">None</AllowedMensurationCapabilities>
<AvailableMensurationCapabilities Sync="TRUE">None,Basic,Base-Top Height,Top-Top Shadow Height,Base-Top Shadow Height,3D</AvailableMensurationCapabilities>
<ClipToBoundary Sync="TRUE">-1</ClipToBoundary>
<FootprintMayContainNoData Sync="TRUE">-1</FootprintMayContainNoData>
<CellSizeTolerance Sync="TRUE">0.8</CellSizeTolerance>
<MinimumPixelContribution Sync="TRUE">1</MinimumPixelContribution>
<AvailableMosaicMethods Sync="TRUE">NorthWest,Center,LockRaster,ByAttribute,Nadir,Viewpoint,Seamline,None</AvailableMosaicMethods>
<AvailableCompressionMethods Sync="TRUE">None,JPEG,LZ77,LERC</AvailableCompressionMethods>
<AvailableItemMetadataLevels Sync="TRUE">None,Basic,Full</AvailableItemMetadataLevels>
<BandDefinitionKeyword Sync="TRUE">NONE</BandDefinitionKeyword>
<_docversion_ Sync="TRUE">10</_docversion_>
<AllowedFields Sync="TRUE">Name,MinPS,MaxPS,LowPS,HighPS,Tag,GroupName,ProductName,CenterX,CenterY,ZOrder,Shape_Length,Shape_Area,Variable,Dimensions,StdTime,time</AllowedFields>
<DataType Sync="TRUE">Scientific</DataType>
<SortAscending Sync="TRUE">0</SortAscending>
<SortField Sync="TRUE">StdTime</SortField>
<UseTime Sync="TRUE">-1</UseTime>
<StartTimeFieldName Sync="TRUE">time</StartTimeFieldName>
<EndTimeFieldName Sync="TRUE">time</EndTimeFieldName>
<TimeInterval Sync="TRUE">1</TimeInterval>
<TimeIntervalUnits Sync="TRUE">Years</TimeIntervalUnits>
<MaxCellSize Sync="TRUE">0.625</MaxCellSize>
<LowCellSize Sync="TRUE">0.0625</LowCellSize>
<HighCellSize Sync="TRUE">0.0625</HighCellSize>
<ApplyColorCorrection Sync="TRUE">0</ApplyColorCorrection>
<TimeValueFormat Sync="TRUE">YYYY</TimeValueFormat>
<VerticalDimension Sync="TRUE">
</VerticalDimension>
<FlowDirection Sync="TRUE">
</FlowDirection>
<MosaicOperator Sync="TRUE">1</MosaicOperator>
<BlendWidthUnits Sync="TRUE">1</BlendWidthUnits>
<ClipToFootprint Sync="TRUE">0</ClipToFootprint>
<ClipOverviewsToFootprint Sync="TRUE">0</ClipOverviewsToFootprint>
<SortValue Sync="TRUE">0</SortValue>
</Properties>
<Functions Sync="TRUE">
<Function Description="Performs on-the-fly mosaic on a raster catalog." Name="Mosaic Function">
</Function>
</Functions>
</RasterProperties>
</DataProperties>
<SyncDate>20210326</SyncDate>
<SyncTime>11104300</SyncTime>
<ModDate>20210326</ModDate>
<ModTime>11104300</ModTime>
<scaleRange>
<minScale>150000000</minScale>
<maxScale>5000</maxScale>
</scaleRange>
</Esri>
<mdLang>
<languageCode value="eng">
</languageCode>
<countryCode Sync="TRUE" value="USA">
</countryCode>
</mdLang>
<mdChar>
<CharSetCd value="004">
</CharSetCd>
</mdChar>
<mdHrLv>
<ScopeCd value="005">
</ScopeCd>
</mdHrLv>
<mdContact>
<rpIndName>Geospatial &amp; Analytics</rpIndName>
<rpOrgName>Houston Advanced Research Center</rpOrgName>
<role>
<RoleCd value="003">
</RoleCd>
</role>
<rpCntInfo>
<cntAddress addressType="both">
<delPoint>8801 Gosling Road</delPoint>
<city>The Woodlands</city>
<adminArea>TX</adminArea>
<postCode>77381</postCode>
<eMailAdd>harcgis@harcresearch.org</eMailAdd>
<country>US</country>
</cntAddress>
<cntPhone>
<voiceNum>281-364-6000</voiceNum>
</cntPhone>
</rpCntInfo>
</mdContact>
<mdStanName>ArcGIS Metadata</mdStanName>
<mdStanVer>1.0</mdStanVer>
<dataIdInfo>
<idCitation>
<presForm>
<PresFormCd value="005">
</PresFormCd>
</presForm>
<presForm>
<fgdcGeoform>remote-sensing image</fgdcGeoform>
</presForm>
<resTitle Sync="TRUE">RESIN_TmaxAbove100</resTitle>
</idCitation>
<idAbs>Anne Stoner's climate data. It's the indicator values of the RCP85 scenario within the RESIN study area. Days with Maximum Daily Temperature Above 100F (Days). Disclaimer: This product is for informational purposes only and may not be suitable for legal, engineering, or surveying purposes. It does not represent an official survey and represents only the approximate relative location of features and boundaries. Mapping may not necessarily reflect on-the-ground conditions. This product and those involved in its production make no claims as to the accuracy or reliability of the data, and neither assumes, nor will accept liability for their use. HARC Internal use only. For external use, please contact the HARC GIS group.</idAbs>
<idPurp>Anne Stoner's climate data. It's the indicator values of the RCP85 scenario within the RESIN study area. Days with Maximum Daily Temperature Above 100F (Days).</idPurp>
<idCredit>Anne Stoner, Houston Advanced Research Center</idCredit>
<themeKeys>
<keyword>Climate</keyword>
<keyword>Texas</keyword>
<keyword>Gridded</keyword>
<keyword>Indicators</keyword>
<keyword>Average</keyword>
</themeKeys>
<searchKeys>
<keyword>Climate</keyword>
<keyword>Texas</keyword>
<keyword>Gridded</keyword>
<keyword>Indicators</keyword>
<keyword>Average</keyword>
</searchKeys>
<resConst>
<Consts>
<useLimit>HARC Internal use only. For external use, please contact HARC GIS group.</useLimit>
</Consts>
</resConst>
<dataLang>
<languageCode value="eng">
</languageCode>
<countryCode Sync="TRUE" value="USA">
</countryCode>
</dataLang>
<dataExt>
<geoEle>
<GeoBndBox>
<westBL>-109.0625</westBL>
<eastBL>-88</eastBL>
<southBL>25.125</southBL>
<northBL>37.5</northBL>
</GeoBndBox>
</geoEle>
</dataExt>
<envirDesc Sync="TRUE"> Version 6.2 (Build 9200) ; Esri ArcGIS 10.7.1.11595</envirDesc>
<spatRpType>
<SpatRepTypCd Sync="TRUE" value="002">
</SpatRepTypCd>
</spatRpType>
<dataExt>
<geoEle>
<GeoBndBox esriExtentType="search">
<exTypeCode Sync="TRUE">1</exTypeCode>
<westBL Sync="TRUE">-96.250000</westBL>
<eastBL Sync="TRUE">-93.812500</eastBL>
<northBL Sync="TRUE">30.687500</northBL>
<southBL Sync="TRUE">28.812500</southBL>
</GeoBndBox>
</geoEle>
</dataExt>
</dataIdInfo>
<spatRepInfo>
<Georect>
<axisDimension type="001">
<dimSize Sync="TRUE">30</dimSize>
<dimResol>
<value Sync="TRUE" uom="deg">0.062500</value>
</dimResol>
</axisDimension>
<axisDimension type="002">
<dimSize Sync="TRUE">39</dimSize>
<dimResol>
<value Sync="TRUE" uom="deg">0.062500</value>
</dimResol>
</axisDimension>
<cellGeo>
<CellGeoCd Sync="TRUE" value="002">
</CellGeoCd>
</cellGeo>
<numDims Sync="TRUE">2</numDims>
<tranParaAv Sync="TRUE">1</tranParaAv>
<chkPtAv Sync="TRUE">0</chkPtAv>
<cornerPts>
<pos Sync="TRUE">-96.250000 28.812500</pos>
</cornerPts>
<cornerPts>
<pos Sync="TRUE">-96.250000 30.687500</pos>
</cornerPts>
<cornerPts>
<pos Sync="TRUE">-93.812500 30.687500</pos>
</cornerPts>
<cornerPts>
<pos Sync="TRUE">-93.812500 28.812500</pos>
</cornerPts>
<centerPt>
<pos Sync="TRUE">-95.031250 29.750000</pos>
</centerPt>
<ptInPixel>
<PixOrientCd Sync="TRUE" value="001">
</PixOrientCd>
</ptInPixel>
</Georect>
</spatRepInfo>
<contInfo>
<ImgDesc>
<covDim>
<Band>
<valUnit>
<UOM type="length">
</UOM>
</valUnit>
<dimDescrp Sync="TRUE">Band_1</dimDescrp>
<bitsPerVal Sync="TRUE">32</bitsPerVal>
<maxVal Sync="TRUE">94.562499</maxVal>
<minVal Sync="TRUE">0.094638</minVal>
</Band>
</covDim>
<contentTyp>
<ContentTypCd Sync="TRUE" value="001">
</ContentTypCd>
</contentTyp>
</ImgDesc>
</contInfo>
<refSysInfo>
<RefSystem>
<refSysID>
<identCode Sync="TRUE" code="4326">
</identCode>
<idCodeSpace Sync="TRUE">EPSG</idCodeSpace>
<idVersion Sync="TRUE">6.14(3.0.1)</idVersion>
</refSysID>
</RefSystem>
</refSysInfo>
<mdDateSt Sync="TRUE">20210326</mdDateSt>
</metadata>
