{ "currentVersion": 10.91, "serviceDescription": "

Data were collected from 11 September 2014 to 21 September 2016.<\/SPAN><\/SPAN><\/P>
Sidescan sonar imagery (GeoTIFF) is available for qualitative purposes. The sidescan range violated the 1:10 depth: range ratio rule-of-thumb, as range was to 50x water depth. <\/SPAN><\/SPAN><\/P>
Bathymetric point data from Singlebeam Echosounder (ArcGIS Shapefile and CSV). <\/SPAN><\/SPAN><\/P>
Bottom features including Maximum SV, First echo, second echo, kurtosis, skew, rise, hardness, and roughness (see EchoView support for description of these features)<\/SPAN><\/P>
  • Caution should be used when interpreting all bottom features <\/SPAN><\/SPAN>other than depth<\/SPAN><\/SPAN>(bathymetric data are acceptable). Poor weather and resulting heave affected the signal for some survey days. In general, the singlebeam data in the southwest portion of the bay is reliable. The use of the features to automate a habitat classification is not suggested.<\/SPAN><\/SPAN><\/P><\/LI>
  • Sidescan = Teledyne Benthos C3D <\/SPAN><\/SPAN><\/P>
    • Bow-mounted<\/SPAN><\/SPAN><\/P><\/LI>
    • 200 kHz frequency<\/SPAN><\/SPAN><\/P><\/LI>
    • Range of 100 meters<\/SPAN><\/SPAN><\/P><\/LI>
    • 12% Overlap between transect<\/SPAN><\/SPAN><\/P><\/LI>
    • Transect spacing of 185 meters<\/SPAN><\/SPAN><\/P><\/LI>
    • Data collected in WGS 84<\/SPAN><\/SPAN><\/P><\/LI>
    • Projected to UTM 15N<\/SPAN><\/SPAN><\/P><\/LI>
    • Location Data: Ashtec dGPS receiver with Communication System International MBX-3 Differential<\/SPAN><\/SPAN><\/P><\/LI><\/UL><\/LI>
    • Singlebeam<\/SPAN><\/SPAN><\/P>
      • Processed in EchoView<\/SPAN><\/SPAN><\/P><\/LI>
      • Bottom Line Selection<\/SPAN><\/SPAN><\/P>
        • Min SV for pick = -9<\/SPAN><\/SPAN><\/P><\/LI>
        • Backstep @ -15 discrimination level<\/SPAN><\/SPAN><\/P><\/LI>
        • Peak threshold = -13<\/SPAN><\/SPAN><\/P><\/LI><\/UL><\/LI>
        • Bottom Classification (to pull features)<\/SPAN><\/SPAN><\/P>
          • Distance between intervals = 5 m<\/SPAN><\/SPAN><\/P><\/LI>
          • Background noise = -999<\/SPAN><\/SPAN><\/P><\/LI>
          • Bottom echo threshold @ 1 m = ranges from -60 to -40<\/SPAN><\/SPAN><\/P><\/LI><\/UL><\/LI>
          • Final SingleBeam file<\/SPAN><\/SPAN><\/P>
            • \u201cDep_Orig\u201d = raw depth values that were all calculated using a 0.495 m transducer offset, have not been corrected for transducer offset error in 2014/2015. If you want to use these, then:<\/SPAN><\/SPAN><\/P>
              • Data from 2016 is correct<\/SPAN><\/SPAN><\/P><\/LI>
              • Data from 2014-2015 needs to have 0.15 m ADDED to it<\/SPAN><\/SPAN><\/P><\/LI><\/UL><\/LI>
              • \u201cDepth\u201d = depths that have been corrected for transducer offset<\/SPAN><\/SPAN><\/P><\/LI>
              • \u201cDep_TidCor\u201d = Transducer-corrected depths that have been corrected for tide<\/SPAN><\/SPAN><\/P>
                • Tide corrections in 1-hour intervals from Pier 21<\/SPAN><\/SPAN><\/P><\/LI><\/UL><\/LI>
                • All depths are in meters<\/SPAN><\/SPAN><\/P><\/LI><\/UL><\/LI><\/UL><\/LI>
                • Survey planning in Hypack<\/SPAN><\/P><\/LI><\/UL>
                  Disclaimer: This product is for informational purposes only and may not be suitable for legal, engineering, or surveying purposes. It does not represent an official survey and represents only the approximate relative location of features and boundaries. Mapping may not necessarily reflect on-the-ground conditions. This product and those involved in its production make no claims as to the accuracy or reliability of the data, and neither assumes, nor will accept liability for their use.<\/SPAN><\/P><\/DIV><\/DIV><\/DIV>", "name": "Oysters/TPWD_Oyster_WGB_Side_Scans_2016", "description": "

                  Data were collected from 11 September 2014 to 21 September 2016.<\/SPAN><\/SPAN><\/P>
                  Sidescan sonar imagery (GeoTIFF) is available for qualitative purposes. The sidescan range violated the 1:10 depth: range ratio rule-of-thumb, as range was to 50x water depth. <\/SPAN><\/SPAN><\/P>
                  Bathymetric point data from Singlebeam Echosounder (ArcGIS Shapefile and CSV). <\/SPAN><\/SPAN><\/P>
                  Bottom features including Maximum SV, First echo, second echo, kurtosis, skew, rise, hardness, and roughness (see EchoView support for description of these features)<\/SPAN><\/P>
                  • Caution should be used when interpreting all bottom features <\/SPAN><\/SPAN>other than depth<\/SPAN><\/SPAN>(bathymetric data are acceptable). Poor weather and resulting heave affected the signal for some survey days. In general, the singlebeam data in the southwest portion of the bay is reliable. The use of the features to automate a habitat classification is not suggested.<\/SPAN><\/SPAN><\/P><\/LI>
                  • Sidescan = Teledyne Benthos C3D <\/SPAN><\/SPAN><\/P>
                    • Bow-mounted<\/SPAN><\/SPAN><\/P><\/LI>
                    • 200 kHz frequency<\/SPAN><\/SPAN><\/P><\/LI>
                    • Range of 100 meters<\/SPAN><\/SPAN><\/P><\/LI>
                    • 12% Overlap between transect<\/SPAN><\/SPAN><\/P><\/LI>
                    • Transect spacing of 185 meters<\/SPAN><\/SPAN><\/P><\/LI>
                    • Data collected in WGS 84<\/SPAN><\/SPAN><\/P><\/LI>
                    • Projected to UTM 15N<\/SPAN><\/SPAN><\/P><\/LI>
                    • Location Data: Ashtec dGPS receiver with Communication System International MBX-3 Differential<\/SPAN><\/SPAN><\/P><\/LI><\/UL><\/LI>
                    • Singlebeam<\/SPAN><\/SPAN><\/P>
                      • Processed in EchoView<\/SPAN><\/SPAN><\/P><\/LI>
                      • Bottom Line Selection<\/SPAN><\/SPAN><\/P>
                        • Min SV for pick = -9<\/SPAN><\/SPAN><\/P><\/LI>
                        • Backstep @ -15 discrimination level<\/SPAN><\/SPAN><\/P><\/LI>
                        • Peak threshold = -13<\/SPAN><\/SPAN><\/P><\/LI><\/UL><\/LI>
                        • Bottom Classification (to pull features)<\/SPAN><\/SPAN><\/P>
                          • Distance between intervals = 5 m<\/SPAN><\/SPAN><\/P><\/LI>
                          • Background noise = -999<\/SPAN><\/SPAN><\/P><\/LI>
                          • Bottom echo threshold @ 1 m = ranges from -60 to -40<\/SPAN><\/SPAN><\/P><\/LI><\/UL><\/LI>
                          • Final SingleBeam file<\/SPAN><\/SPAN><\/P>
                            • \u201cDep_Orig\u201d = raw depth values that were all calculated using a 0.495 m transducer offset, have not been corrected for transducer offset error in 2014/2015. If you want to use these, then:<\/SPAN><\/SPAN><\/P>
                              • Data from 2016 is correct<\/SPAN><\/SPAN><\/P><\/LI>
                              • Data from 2014-2015 needs to have 0.15 m ADDED to it<\/SPAN><\/SPAN><\/P><\/LI><\/UL><\/LI>
                              • \u201cDepth\u201d = depths that have been corrected for transducer offset<\/SPAN><\/SPAN><\/P><\/LI>
                              • \u201cDep_TidCor\u201d = Transducer-corrected depths that have been corrected for tide<\/SPAN><\/SPAN><\/P>
                                • Tide corrections in 1-hour intervals from Pier 21<\/SPAN><\/SPAN><\/P><\/LI><\/UL><\/LI>
                                • All depths are in meters<\/SPAN><\/SPAN><\/P><\/LI><\/UL><\/LI><\/UL><\/LI>
                                • Survey planning in Hypack<\/SPAN><\/P><\/LI><\/UL>
                                  Disclaimer: This product is for informational purposes only and may not be suitable for legal, engineering, or surveying purposes. It does not represent an official survey and represents only the approximate relative location of features and boundaries. Mapping may not necessarily reflect on-the-ground conditions. This product and those involved in its production make no claims as to the accuracy or reliability of the data, and neither assumes, nor will accept liability for their use.<\/SPAN><\/P><\/DIV><\/DIV><\/DIV>", "extent": { "xmin": 288917.42059841566, "ymin": 3222134.7964208582, "xmax": 325061.42059841566, "ymax": 3252464.7964208582, "spatialReference": { "wkid": 32615, "latestWkid": 32615 } }, "initialExtent": { "xmin": 288917.42059841566, "ymin": 3222134.7964208582, "xmax": 325061.42059841566, "ymax": 3252464.7964208582, "spatialReference": { "wkid": 32615, "latestWkid": 32615 } }, "fullExtent": { "xmin": 288917.42059841566, "ymin": 3222134.7964208582, "xmax": 325061.42059841566, "ymax": 3252464.7964208582, "spatialReference": { "wkid": 32615, "latestWkid": 32615 } }, "pixelSizeX": 0.3103448275862069, "pixelSizeY": 0.5, "bandCount": 2, "pixelType": "U8", "minPixelSize": 0, "maxPixelSize": 0, "copyrightText": "TPWD", "serviceDataType": "esriImageServiceDataTypeThematic", "minValues": [ 0, 0 ], "maxValues": [ 254, 255 ], "meanValues": [ 27.966110157389, 36.491312895165 ], "stdvValues": [ 69.583581360008, 89.295402302856 ], "objectIdField": "", "fields": [], "capabilities": "Image,Metadata,Mensuration", "defaultMosaicMethod": "Center", "allowedMosaicMethods": "", "sortField": "", "sortValue": null, "sortAscending": true, "mosaicOperator": "First", "defaultCompressionQuality": 75, "defaultResamplingMethod": "Bilinear", "maxImageHeight": 4100, "maxImageWidth": 15000, "allowRasterFunction": true, "rasterFunctionInfos": [ { "name": "None", "description": "", "help": "" } ], "rasterTypeInfos": [ { "name": "Raster Dataset", "description": "Supports all ArcGIS Raster Datasets", "help": "" } ], "mensurationCapabilities": "Basic", "hasHistograms": true, "hasColormap": false, "hasRasterAttributeTable": false, "minScale": 0, "maxScale": 0, "exportTilesAllowed": false, "hasMultidimensions": false, "supportsStatistics": false, "supportsAdvancedQueries": false, "editFieldsInfo": null, "ownershipBasedAccessControlForRasters": null, "allowComputeTiePoints": false, "useStandardizedQueries": true, "advancedQueryCapabilities": { "useStandardizedQueries": true, "supportsStatistics": false, "supportsOrderBy": false, "supportsDistinct": false, "supportsPagination": false }, "spatialReference": { "wkid": 32615, "latestWkid": 32615 } }