{ "currentVersion": 10.91, "serviceDescription": "
Data were collected from 11 September 2014 to 21 September 2016.<\/SPAN><\/SPAN><\/P> Sidescan sonar imagery (GeoTIFF) is available for qualitative purposes. The sidescan range violated the 1:10 depth: range ratio rule-of-thumb, as range was to 50x water depth. <\/SPAN><\/SPAN><\/P> Bathymetric point data from Singlebeam Echosounder (ArcGIS Shapefile and CSV). <\/SPAN><\/SPAN><\/P> Bottom features including Maximum SV, First echo, second echo, kurtosis, skew, rise, hardness, and roughness (see EchoView support for description of these features)<\/SPAN><\/P> Caution should be used when interpreting all bottom features <\/SPAN><\/SPAN>other than depth<\/SPAN><\/SPAN>(bathymetric data are acceptable). Poor weather and resulting heave affected the signal for some survey days. In general, the singlebeam data in the southwest portion of the bay is reliable. The use of the features to automate a habitat classification is not suggested.<\/SPAN><\/SPAN><\/P><\/LI><\/UL> DEM Creation<\/SPAN><\/SPAN><\/P> Empirical Bayesian kriging<\/SPAN><\/SPAN><\/P> Output cell size 50<\/SPAN><\/SPAN><\/P><\/LI> Logempirical transformation<\/SPAN><\/SPAN><\/P><\/LI> Exponential semivariogram<\/SPAN><\/SPAN><\/P><\/LI> 500 points in each local model<\/SPAN><\/SPAN><\/P><\/LI> Local model overlap 3<\/SPAN><\/SPAN><\/P><\/LI> 50 simulated semivariograms<\/SPAN><\/SPAN><\/P><\/LI> Standard circular search pattern<\/SPAN><\/SPAN><\/P> Radius of 100 m<\/SPAN><\/SPAN><\/P><\/LI> Maximum neighbors = 500<\/SPAN><\/SPAN><\/P><\/LI> Minimum neighbors = 100<\/SPAN><\/SPAN><\/P><\/LI> Angle 45<\/SPAN><\/SPAN><\/P><\/LI> Sector Type \u2013 4<\/SPAN><\/SPAN><\/P><\/LI> Survey planning in Hypack<\/SPAN><\/P><\/LI><\/UL><\/LI><\/UL><\/LI><\/UL> Disclaimer: This product is for informational purposes only and may not be suitable for legal, engineering, or surveying purposes. It does not represent an official survey and represents only the approximate relative location of features and boundaries. Mapping may not necessarily reflect on-the-ground conditions. This product and those involved in its production make no claims as to the accuracy or reliability of the data, and neither assumes, nor will accept liability for their use.<\/SPAN><\/P><\/DIV><\/DIV><\/DIV>",
"name": "Oysters/TPWD_Oyster_WGB_DEM_2016",
"description": " Data were collected from 11 September 2014 to 21 September 2016.<\/SPAN><\/SPAN><\/P> Sidescan sonar imagery (GeoTIFF) is available for qualitative purposes. The sidescan range violated the 1:10 depth: range ratio rule-of-thumb, as range was to 50x water depth. <\/SPAN><\/SPAN><\/P> Bathymetric point data from Singlebeam Echosounder (ArcGIS Shapefile and CSV). <\/SPAN><\/SPAN><\/P> Bottom features including Maximum SV, First echo, second echo, kurtosis, skew, rise, hardness, and roughness (see EchoView support for description of these features)<\/SPAN><\/P> Caution should be used when interpreting all bottom features <\/SPAN><\/SPAN>other than depth<\/SPAN><\/SPAN>(bathymetric data are acceptable). Poor weather and resulting heave affected the signal for some survey days. In general, the singlebeam data in the southwest portion of the bay is reliable. The use of the features to automate a habitat classification is not suggested.<\/SPAN><\/SPAN><\/P><\/LI><\/UL> DEM Creation<\/SPAN><\/SPAN><\/P> Empirical Bayesian kriging<\/SPAN><\/SPAN><\/P> Output cell size 50<\/SPAN><\/SPAN><\/P><\/LI> Logempirical transformation<\/SPAN><\/SPAN><\/P><\/LI> Exponential semivariogram<\/SPAN><\/SPAN><\/P><\/LI> 500 points in each local model<\/SPAN><\/SPAN><\/P><\/LI> Local model overlap 3<\/SPAN><\/SPAN><\/P><\/LI> 50 simulated semivariograms<\/SPAN><\/SPAN><\/P><\/LI> Standard circular search pattern<\/SPAN><\/SPAN><\/P> Radius of 100 m<\/SPAN><\/SPAN><\/P><\/LI> Maximum neighbors = 500<\/SPAN><\/SPAN><\/P><\/LI> Minimum neighbors = 100<\/SPAN><\/SPAN><\/P><\/LI> Angle 45<\/SPAN><\/SPAN><\/P><\/LI> Sector Type \u2013 4<\/SPAN><\/SPAN><\/P><\/LI> Survey planning in Hypack<\/SPAN><\/P><\/LI><\/UL><\/LI><\/UL><\/LI><\/UL> Disclaimer: This product is for informational purposes only and may not be suitable for legal, engineering, or surveying purposes. It does not represent an official survey and represents only the approximate relative location of features and boundaries. Mapping may not necessarily reflect on-the-ground conditions. This product and those involved in its production make no claims as to the accuracy or reliability of the data, and neither assumes, nor will accept liability for their use.<\/SPAN><\/P><\/DIV><\/DIV><\/DIV>",
"extent": {
"xmin": 289683.97135307116,
"ymin": 3222228.0315484656,
"xmax": 322933.97135307116,
"ymax": 3250478.0315484656,
"spatialReference": {
"wkid": 32615,
"latestWkid": 32615
}
},
"initialExtent": {
"xmin": 289683.97135307116,
"ymin": 3222228.0315484656,
"xmax": 322933.97135307116,
"ymax": 3250478.0315484656,
"spatialReference": {
"wkid": 32615,
"latestWkid": 32615
}
},
"fullExtent": {
"xmin": 289683.97135307116,
"ymin": 3222228.0315484656,
"xmax": 322933.97135307116,
"ymax": 3250478.0315484656,
"spatialReference": {
"wkid": 32615,
"latestWkid": 32615
}
},
"pixelSizeX": 50,
"pixelSizeY": 50,
"bandCount": 1,
"pixelType": "F32",
"minPixelSize": 0,
"maxPixelSize": 0,
"copyrightText": "TPWD",
"serviceDataType": "esriImageServiceDataTypeGeneric",
"minValues": [
0.8617508411407471
],
"maxValues": [
5.925294399261475
],
"meanValues": [
2.0627595726933308
],
"stdvValues": [
0.37438865117734416
],
"objectIdField": "",
"fields": [],
"capabilities": "Image,Metadata,Mensuration",
"defaultMosaicMethod": "Center",
"allowedMosaicMethods": "",
"sortField": "",
"sortValue": null,
"sortAscending": true,
"mosaicOperator": "First",
"defaultCompressionQuality": 75,
"defaultResamplingMethod": "Bilinear",
"maxImageHeight": 4100,
"maxImageWidth": 15000,
"allowRasterFunction": true,
"rasterFunctionInfos": [
{
"name": "None",
"description": "",
"help": ""
}
],
"rasterTypeInfos": [
{
"name": "Raster Dataset",
"description": "Supports all ArcGIS Raster Datasets",
"help": ""
}
],
"mensurationCapabilities": "Basic",
"hasHistograms": true,
"hasColormap": false,
"hasRasterAttributeTable": false,
"minScale": 0,
"maxScale": 0,
"exportTilesAllowed": false,
"hasMultidimensions": false,
"supportsStatistics": false,
"supportsAdvancedQueries": false,
"editFieldsInfo": null,
"ownershipBasedAccessControlForRasters": null,
"allowComputeTiePoints": false,
"useStandardizedQueries": true,
"advancedQueryCapabilities": {
"useStandardizedQueries": true,
"supportsStatistics": false,
"supportsOrderBy": false,
"supportsDistinct": false,
"supportsPagination": false
},
"spatialReference": {
"wkid": 32615,
"latestWkid": 32615
}
}