{ "currentVersion": 10.91, "cimVersion": "2.9.0", "serviceDescription": "
USGS NLCD Tree Canopy 2016. Percent tree canopy cover is a measure of local tree density that has a variety of applications in wildlife habitat analysis, fire behavior modeling, carbon accounting, and hydrologic analysis. Using medium spatial resolution imagery (30m) from Landsat, we have produced consistent, seamless per-pixel estimates of percent tree canopy cover ranging from 0 to 100 percent. This dataset is part of the larger National Land Cover Database (NLCD) that also includes information on land cover, percent imperviousness, and percent shrub/grass. The NLCD effort is coordinated by a partnership of federal agencies called the Multi-Resolution Land Characteristics (MRLC) Consortium (www.mrlc.gov).<\/span><\/p><\/div>",
"mapName": "USGS_NLCD_Tree_Canopy_2016",
"description": "",
"copyrightText": "USGS",
"supportsDynamicLayers": true,
"layers": [
{
"id": 0,
"name": "USGS_NLCD_Tree_Canopy_2016",
"parentLayerId": -1,
"defaultVisibility": true,
"subLayerIds": null,
"minScale": 0,
"maxScale": 0,
"type": "Raster Layer",
"supportsDynamicLegends": true
}
],
"tables": [],
"spatialReference": {
"wkid": 102100,
"latestWkid": 3857,
"xyTolerance": 0.001,
"zTolerance": 0.001,
"mTolerance": 0.001,
"falseX": -20037700,
"falseY": -30241100,
"xyUnits": 10000,
"falseZ": -100000,
"zUnits": 10000,
"falseM": -100000,
"mUnits": 10000
},
"singleFusedMapCache": true,
"tileInfo": {
"rows": 256,
"cols": 256,
"dpi": 96,
"format": "PNG32",
"compressionQuality": 0,
"origin": {
"x": -2.0037508342787E7,
"y": 2.0037508342787E7
},
"spatialReference": {
"wkid": 102100,
"latestWkid": 3857,
"xyTolerance": 0.001,
"zTolerance": 0.001,
"mTolerance": 0.001,
"falseX": -20037700,
"falseY": -30241100,
"xyUnits": 10000,
"falseZ": -100000,
"zUnits": 10000,
"falseM": -100000,
"mUnits": 10000
},
"lods": [
{
"level": 0,
"resolution": 2445.98490512499,
"scale": 9244648.868618
},
{
"level": 1,
"resolution": 1222.992452562495,
"scale": 4622324.434309
},
{
"level": 2,
"resolution": 611.4962262813797,
"scale": 2311162.217155
},
{
"level": 3,
"resolution": 305.74811314055756,
"scale": 1155581.108577
},
{
"level": 4,
"resolution": 152.87405657041106,
"scale": 577790.554289
},
{
"level": 5,
"resolution": 76.43702828507324,
"scale": 288895.277144
},
{
"level": 6,
"resolution": 38.21851414253662,
"scale": 144447.638572
},
{
"level": 7,
"resolution": 19.10925707126831,
"scale": 72223.819286
},
{
"level": 8,
"resolution": 9.554628535634155,
"scale": 36111.909643
},
{
"level": 9,
"resolution": 4.77731426794937,
"scale": 18055.954822
}
]
},
"storageInfo": {
"storageFormat": "esriMapCacheStorageModeCompactV2",
"packetSize": 128
},
"initialExtent": {
"xmin": -1.269800161574778E7,
"ymin": 2455541.0640364047,
"xmax": -9629462.252916437,
"ymax": 4864460.696410632,
"spatialReference": {
"cs": "pcs",
"wkid": 102100
}
},
"fullExtent": {
"xmin": -1.1939009984585576E7,
"ymin": 2921660.012531231,
"xmax": -1.038845388407864E7,
"ymax": 4398341.747915805,
"spatialReference": {
"cs": "pcs",
"wkid": 102100
}
},
"datesInUnknownTimezone": false,
"minScale": 9244648.868618,
"maxScale": 18055.954822,
"minLOD": 0,
"maxLOD": 9,
"units": "esriMeters",
"supportedImageFormatTypes": "PNG32,PNG24,PNG,JPG,DIB,TIFF,EMF,PS,PDF,GIF,SVG,SVGZ,BMP",
"documentInfo": {
"Title": "USGS_NLCD_Tree_Canopy_2016",
"Author": "",
"Comments": " USGS NLCD Tree Canopy 2016. Percent tree canopy cover is a measure of local tree density that has a variety of applications in wildlife habitat analysis, fire behavior modeling, carbon accounting, and hydrologic analysis. Using medium spatial resolution imagery (30m) from Landsat, we have produced consistent, seamless per-pixel estimates of percent tree canopy cover ranging from 0 to 100 percent. This dataset is part of the larger National Land Cover Database (NLCD) that also includes information on land cover, percent imperviousness, and percent shrub/grass. The NLCD effort is coordinated by a partnership of federal agencies called the Multi-Resolution Land Characteristics (MRLC) Consortium (www.mrlc.gov).<\/SPAN><\/P><\/DIV>",
"Subject": "USGS NLCD Tree Canopy 2016.",
"Category": "",
"AntialiasingMode": "None",
"TextAntialiasingMode": "Force",
"Version": "2.4.0",
"Keywords": "USGS,NLCD,Land Cover,Trees,Tree Canopy"
},
"capabilities": "Map,Query,Data",
"supportedQueryFormats": "JSON, geoJSON, PBF",
"exportTilesAllowed": false,
"referenceScale": 0.0,
"datumTransformations": [
{
"geoTransforms": [
{
"wkid": 108190,
"latestWkid": 108190,
"transformForward": true,
"name": "WGS_1984_(ITRF00)_To_NAD_1983"
}
]
},
{
"geoTransforms": [
{
"wkid": 108190,
"latestWkid": 108190,
"transformForward": false,
"name": "WGS_1984_(ITRF00)_To_NAD_1983"
}
]
}
],
"supportsDatumTransformation": true,
"archivingInfo": {"supportsHistoricMoment": false},
"supportsClipping": true,
"supportsSpatialFilter": true,
"supportsTimeRelation": true,
"supportsQueryDataElements": true,
"maxRecordCount": 2000,
"maxImageHeight": 4096,
"maxImageWidth": 4096,
"supportedExtensions": "WMSServer"
}