{
 "currentVersion": 10.91,
 "serviceDescription": "<DIV STYLE=\"text-align:Left;\"><DIV><DIV><P><SPAN>On August 31, 2017, the Moderate Resolution Imaging Spectroradiometer (MODIS) on NASA\u2019s Terra satellite captured this image of the Texas coast and the Houston metropolitan area. Note the brown rivers and bays, full of flood water from Hurricane Harvey. Along the coast, muddy, sediment-laden waters from inland pour into a Gulf of Mexico that also was churned up by the relentless storm. NASA Earth Observatory image by Jesse Allen, using data from the Land Atmosphere Near real-time Capability for EOS (LANCE). Caption by Michael Carlowicz. Download from https://earthobservatory.nasa.gov/NaturalHazards/view.php?id=90866 on 9/27/2017<\/SPAN><\/P><\/DIV><\/DIV><\/DIV>",
 "name": "Hurricanes/NASA_MODIS_Harvey_Sediment",
 "description": "<DIV STYLE=\"text-align:Left;\"><DIV><DIV><P><SPAN>On August 31, 2017, the Moderate Resolution Imaging Spectroradiometer (MODIS) on NASA\u2019s Terra satellite captured this image of the Texas coast and the Houston metropolitan area. Note the brown rivers and bays, full of flood water from Hurricane Harvey. Along the coast, muddy, sediment-laden waters from inland pour into a Gulf of Mexico that also was churned up by the relentless storm. NASA Earth Observatory image by Jesse Allen, using data from the Land Atmosphere Near real-time Capability for EOS (LANCE). Caption by Michael Carlowicz. Download from https://earthobservatory.nasa.gov/NaturalHazards/view.php?id=90866 on 9/27/2017<\/SPAN><\/P><\/DIV><\/DIV><\/DIV>",
 "extent": {
  "xmin": -103875,
  "ymin": -204875,
  "xmax": 351875,
  "ymax": 89125,
  "spatialReference": {
   "wkt": "PROJCS[\"unnamed_PROJCS\",GEOGCS[\"GCS_WGS_1984\",DATUM[\"D_WGS_1984\",SPHEROID[\"WGS_1984\",6378137.0,298.257223563]],PRIMEM[\"Greenwich\",0.0],UNIT[\"Degree\",0.0174532925199433]],PROJECTION[\"Albers\"],PARAMETER[\"false_easting\",0.0],PARAMETER[\"false_northing\",0.0],PARAMETER[\"central_meridian\",-96.0],PARAMETER[\"standard_parallel_1\",20.0],PARAMETER[\"standard_parallel_2\",40.0],PARAMETER[\"latitude_of_origin\",30.0],UNIT[\"Meter\",1.0]]"
  }
 },
 "initialExtent": {
  "xmin": -103875,
  "ymin": -204875,
  "xmax": 351875,
  "ymax": 89125,
  "spatialReference": {
   "wkt": "PROJCS[\"unnamed_PROJCS\",GEOGCS[\"GCS_WGS_1984\",DATUM[\"D_WGS_1984\",SPHEROID[\"WGS_1984\",6378137.0,298.257223563]],PRIMEM[\"Greenwich\",0.0],UNIT[\"Degree\",0.0174532925199433]],PROJECTION[\"Albers\"],PARAMETER[\"false_easting\",0.0],PARAMETER[\"false_northing\",0.0],PARAMETER[\"central_meridian\",-96.0],PARAMETER[\"standard_parallel_1\",20.0],PARAMETER[\"standard_parallel_2\",40.0],PARAMETER[\"latitude_of_origin\",30.0],UNIT[\"Meter\",1.0]]"
  }
 },
 "fullExtent": {
  "xmin": -103875,
  "ymin": -204875,
  "xmax": 351875,
  "ymax": 89125,
  "spatialReference": {
   "wkt": "PROJCS[\"unnamed_PROJCS\",GEOGCS[\"GCS_WGS_1984\",DATUM[\"D_WGS_1984\",SPHEROID[\"WGS_1984\",6378137.0,298.257223563]],PRIMEM[\"Greenwich\",0.0],UNIT[\"Degree\",0.0174532925199433]],PROJECTION[\"Albers\"],PARAMETER[\"false_easting\",0.0],PARAMETER[\"false_northing\",0.0],PARAMETER[\"central_meridian\",-96.0],PARAMETER[\"standard_parallel_1\",20.0],PARAMETER[\"standard_parallel_2\",40.0],PARAMETER[\"latitude_of_origin\",30.0],UNIT[\"Meter\",1.0]]"
  }
 },
 "pixelSizeX": 250,
 "pixelSizeY": 250,
 "bandCount": 3,
 "pixelType": "U8",
 "minPixelSize": 0,
 "maxPixelSize": 0,
 "copyrightText": "NASA",
 "serviceDataType": "esriImageServiceDataTypeRGB",
 "minValues": [
  20,
  32,
  14
 ],
 "maxValues": [
  225,
  224,
  222
 ],
 "meanValues": [
  84.20796279069768,
  99.66426833631485,
  76.6547091234347
 ],
 "stdvValues": [
  37.38930426064266,
  28.52268135890754,
  24.701327828770033
 ],
 "objectIdField": "",
 "fields": [],
 "capabilities": "Image,Metadata,Mensuration",
 "defaultMosaicMethod": "Center",
 "allowedMosaicMethods": "",
 "sortField": "",
 "sortValue": null,
 "sortAscending": true,
 "mosaicOperator": "First",
 "defaultCompressionQuality": 75,
 "defaultResamplingMethod": "Bilinear",
 "maxImageHeight": 4100,
 "maxImageWidth": 15000,
 "allowRasterFunction": true,
 "rasterFunctionInfos": [
  {
   "name": "None",
   "description": "",
   "help": ""
  }
 ],
 "rasterTypeInfos": [
  {
   "name": "Raster Dataset",
   "description": "Supports all ArcGIS Raster Datasets",
   "help": ""
  }
 ],
 "mensurationCapabilities": "Basic",
 "hasHistograms": true,
 "hasColormap": false,
 "hasRasterAttributeTable": false,
 "minScale": 0,
 "maxScale": 0,
 "exportTilesAllowed": false,
 "hasMultidimensions": false,
 "supportsStatistics": false,
 "supportsAdvancedQueries": false,
 "editFieldsInfo": null,
 "ownershipBasedAccessControlForRasters": null,
 "allowComputeTiePoints": false,
 "useStandardizedQueries": true,
 "advancedQueryCapabilities": {
  "useStandardizedQueries": true,
  "supportsStatistics": false,
  "supportsOrderBy": false,
  "supportsDistinct": false,
  "supportsPagination": false
 },
 "spatialReference": {
  "wkt": "PROJCS[\"unnamed_PROJCS\",GEOGCS[\"GCS_WGS_1984\",DATUM[\"D_WGS_1984\",SPHEROID[\"WGS_1984\",6378137.0,298.257223563]],PRIMEM[\"Greenwich\",0.0],UNIT[\"Degree\",0.0174532925199433]],PROJECTION[\"Albers\"],PARAMETER[\"false_easting\",0.0],PARAMETER[\"false_northing\",0.0],PARAMETER[\"central_meridian\",-96.0],PARAMETER[\"standard_parallel_1\",20.0],PARAMETER[\"standard_parallel_2\",40.0],PARAMETER[\"latitude_of_origin\",30.0],UNIT[\"Meter\",1.0]]"
 }
}
